BEGIN:VCALENDAR
VERSION:2.0
PRODID:-//Colegio Villa Carmen - ECPv6.15.20//NONSGML v1.0//EN
CALSCALE:GREGORIAN
METHOD:PUBLISH
X-ORIGINAL-URL:https://colegiovillacarmen.com
X-WR-CALDESC:Eventos para Colegio Villa Carmen
REFRESH-INTERVAL;VALUE=DURATION:PT1H
X-Robots-Tag:noindex
X-PUBLISHED-TTL:PT1H
BEGIN:VTIMEZONE
TZID:America/Santo_Domingo
BEGIN:STANDARD
TZOFFSETFROM:-0400
TZOFFSETTO:-0400
TZNAME:AST
DTSTART:20180101T000000
END:STANDARD
END:VTIMEZONE
BEGIN:VEVENT
DTSTART;VALUE=DATE:20191129
DTEND;VALUE=DATE:20191130
DTSTAMP:20260423T133123
CREATED:20191018T150011Z
LAST-MODIFIED:20191018T150011Z
UID:662-1574985600-1575071999@colegiovillacarmen.com
SUMMARY:Visita al Museo Hermanas Mirabal (Salcedo) Visita al Centro Cultural León Jiménez (Santiago) para los estudiantes del Nivel Secundario
DESCRIPTION:
URL:https://colegiovillacarmen.com/event/visita-al-museo-hermanas-mirabal-salcedo-visita-al-centro-cultural-leon-jimenez-santiago-para-los-estudiantes-del-nivel-secundario/
LOCATION:Colegio Villa Carmen\, Calle 9 6\, Santo Domingo Este\, Santo Domingo\, Distrito Nacional\, República Dominicana
END:VEVENT
BEGIN:VEVENT
DTSTART;VALUE=DATE:20191125
DTEND;VALUE=DATE:20191126
DTSTAMP:20260423T133123
CREATED:20191018T145931Z
LAST-MODIFIED:20191018T145931Z
UID:660-1574640000-1574726399@colegiovillacarmen.com
SUMMARY:Asesinato de las Hermanas Mirabal (1960)
DESCRIPTION:
URL:https://colegiovillacarmen.com/event/asesinato-de-las-hermanas-mirabal-1960/
LOCATION:Colegio Villa Carmen\, Calle 9 6\, Santo Domingo Este\, Santo Domingo\, Distrito Nacional\, República Dominicana
END:VEVENT
BEGIN:VEVENT
DTSTART;TZID=America/Santo_Domingo:20191120T183000
DTEND;TZID=America/Santo_Domingo:20191120T193000
DTSTAMP:20260423T133123
CREATED:20191018T145854Z
LAST-MODIFIED:20191018T145854Z
UID:658-1574274600-1574278200@colegiovillacarmen.com
SUMMARY:Entrega a los Padres del Boletín de calificaciones
DESCRIPTION:
URL:https://colegiovillacarmen.com/event/entrega-a-los-padres-del-boletin-de-calificaciones/
LOCATION:Colegio Villa Carmen\, Calle 9 6\, Santo Domingo Este\, Santo Domingo\, Distrito Nacional\, República Dominicana
END:VEVENT
BEGIN:VEVENT
DTSTART;VALUE=DATE:20191117
DTEND;VALUE=DATE:20191118
DTSTAMP:20260423T133123
CREATED:20191018T145819Z
LAST-MODIFIED:20191018T145819Z
UID:656-1573948800-1574035199@colegiovillacarmen.com
SUMMARY:Pasadía Familiar Club Fiesta Campestre (Carrt. Sánchez Km 18½  Haina)
DESCRIPTION:
URL:https://colegiovillacarmen.com/event/pasadia-familiar-club-fiesta-campestre-carrt-sanchez-km-18%c2%bd-haina/
LOCATION:Colegio Villa Carmen\, Calle 9 6\, Santo Domingo Este\, Santo Domingo\, Distrito Nacional\, República Dominicana
END:VEVENT
BEGIN:VEVENT
DTSTART;VALUE=DATE:20191111
DTEND;VALUE=DATE:20191112
DTSTAMP:20260423T133123
CREATED:20191018T145748Z
LAST-MODIFIED:20191018T145748Z
UID:654-1573430400-1573516799@colegiovillacarmen.com
SUMMARY:Día Internacional del niño
DESCRIPTION:El Día del Niño es una celebración anual dedicada a la fraternidad y a la comprensión de la infancia del mundo y destinado a actividades para la promoción del bienestar y de los derechos de los niños\, es celebrado en varios países en diferentes fechas.​ Wikipedia
URL:https://colegiovillacarmen.com/event/dia-internacional-del-nino/
LOCATION:Distrito Nacional
END:VEVENT
BEGIN:VEVENT
DTSTART;VALUE=DATE:20191108
DTEND;VALUE=DATE:20191109
DTSTAMP:20260423T133123
CREATED:20191018T145657Z
LAST-MODIFIED:20191018T145657Z
UID:652-1573171200-1573257599@colegiovillacarmen.com
SUMMARY:Celebración Día del Deporte
DESCRIPTION:
URL:https://colegiovillacarmen.com/event/celebracion-dia-del-deporte/
LOCATION:Colegio Villa Carmen\, Calle 9 6\, Santo Domingo Este\, Santo Domingo\, Distrito Nacional\, República Dominicana
END:VEVENT
BEGIN:VEVENT
DTSTART;VALUE=DATE:20191106
DTEND;VALUE=DATE:20191107
DTSTAMP:20260423T133123
CREATED:20191018T145558Z
LAST-MODIFIED:20191018T145558Z
UID:650-1572998400-1573084799@colegiovillacarmen.com
SUMMARY:Día de la Constitución de la República Dominicana
DESCRIPTION:La Constitución de la República Dominicana fue promulgada el 13 de julio del 2015\, mediante la gaceta oficial no. 10561.1. Esta nueva Constitución usa una técnica legislativa más depurada que sus versiones anteriores. Está estructurada en 15 títulos\, precedidos de un preámbulo. Sus subdivisiones son los capítulos\, secciones hasta el detalle de los 277 artículos y 20 disposiciones. Cada artículo tiene su propia denominación o epígrafe. Wikipedia
URL:https://colegiovillacarmen.com/event/dia-de-la-constitucion-de-la-republica-dominicana/
LOCATION:Distrito Nacional
END:VEVENT
BEGIN:VEVENT
DTSTART;TZID=America/Santo_Domingo:20191030T080000
DTEND;TZID=America/Santo_Domingo:20191030T170000
DTSTAMP:20260423T133123
CREATED:20191018T145343Z
LAST-MODIFIED:20191018T145343Z
UID:646-1572422400-1572454800@colegiovillacarmen.com
SUMMARY:Reunión y Capacitación para los Maestros de todos los grados
DESCRIPTION:
URL:https://colegiovillacarmen.com/event/reunion-y-capacitacion-para-los-maestros-de-todos-los-grados/
LOCATION:Colegio Villa Carmen\, Calle 9 6\, Santo Domingo Este\, Santo Domingo\, Distrito Nacional\, República Dominicana
END:VEVENT
BEGIN:VEVENT
DTSTART;VALUE=DATE:20191030
DTEND;VALUE=DATE:20191031
DTSTAMP:20260423T133123
CREATED:20191018T145416Z
LAST-MODIFIED:20191018T145416Z
UID:648-1572393600-1572479999@colegiovillacarmen.com
SUMMARY:No Docencia
DESCRIPTION:
URL:https://colegiovillacarmen.com/event/no-docencia/
LOCATION:Colegio Villa Carmen\, Calle 9 6\, Santo Domingo Este\, Santo Domingo\, Distrito Nacional\, República Dominicana
END:VEVENT
BEGIN:VEVENT
DTSTART;VALUE=DATE:20191023
DTEND;VALUE=DATE:20191024
DTSTAMP:20260423T133123
CREATED:20191018T145304Z
LAST-MODIFIED:20191018T145304Z
UID:644-1571788800-1571875199@colegiovillacarmen.com
SUMMARY:Charla sobre sismo y desastres naturales
DESCRIPTION:
URL:https://colegiovillacarmen.com/event/charla-sobre-sismo-y-desastres-naturales/
LOCATION:Colegio Villa Carmen\, Calle 9 6\, Santo Domingo Este\, Santo Domingo\, Distrito Nacional\, República Dominicana
END:VEVENT
BEGIN:VEVENT
DTSTART;TZID=America/Santo_Domingo:20191017T180000
DTEND;TZID=America/Santo_Domingo:20191017T180000
DTSTAMP:20260423T133123
CREATED:20191018T145213Z
LAST-MODIFIED:20191018T145213Z
UID:642-1571335200-1571335200@colegiovillacarmen.com
SUMMARY:Reunión de Padres para el Nivel Secundario
DESCRIPTION:
URL:https://colegiovillacarmen.com/event/reunion-de-padres-para-el-nivel-secundario/
LOCATION:Colegio Villa Carmen\, Calle 9 6\, Santo Domingo Este\, Santo Domingo\, Distrito Nacional\, República Dominicana
END:VEVENT
BEGIN:VEVENT
DTSTART;TZID=America/Santo_Domingo:20191016T180000
DTEND;TZID=America/Santo_Domingo:20191016T180000
DTSTAMP:20260423T133123
CREATED:20191018T144718Z
LAST-MODIFIED:20191018T145013Z
UID:638-1571248800-1571248800@colegiovillacarmen.com
SUMMARY:Reunión de Padres de 3ero a 6to Primaria
DESCRIPTION:
URL:https://colegiovillacarmen.com/event/reunion-de-padres-de-3ero-a-6to-primaria/
LOCATION:Colegio Villa Carmen\, Calle 9 6\, Santo Domingo Este\, Santo Domingo\, Distrito Nacional\, República Dominicana
END:VEVENT
BEGIN:VEVENT
DTSTART;VALUE=DATE:20191016
DTEND;VALUE=DATE:20191017
DTSTAMP:20260423T133123
CREATED:20191018T144949Z
LAST-MODIFIED:20191018T144949Z
UID:640-1571184000-1571270399@colegiovillacarmen.com
SUMMARY:Día Mundial de la Alimentación
DESCRIPTION:El Día Mundial de la Alimentación se celebra el 16 de octubre de cada año.​ Fue proclamado en 1979 por la Organización de las Naciones Unidas para la Agricultura y la Alimentación.​ Wikipedia
URL:https://colegiovillacarmen.com/event/dia-mundial-de-la-alimentacion/
LOCATION:Distrito Nacional
END:VEVENT
BEGIN:VEVENT
DTSTART;TZID=America/Santo_Domingo:20191015T180000
DTEND;TZID=America/Santo_Domingo:20191015T180000
DTSTAMP:20260423T133123
CREATED:20191018T144610Z
LAST-MODIFIED:20191018T145109Z
UID:636-1571162400-1571162400@colegiovillacarmen.com
SUMMARY:Reunión de Padres del Nivel Inicial hasta 2do Primaria
DESCRIPTION:
URL:https://colegiovillacarmen.com/event/reunion-de-padres-del-nivel-inicial-hasta-2do-primaria/
LOCATION:Colegio Villa Carmen\, Calle 9 6\, Santo Domingo Este\, Santo Domingo\, Distrito Nacional\, República Dominicana
END:VEVENT
BEGIN:VEVENT
DTSTART;VALUE=DATE:20191014
DTEND;VALUE=DATE:20191015
DTSTAMP:20260423T133123
CREATED:20191018T144520Z
LAST-MODIFIED:20191018T144520Z
UID:634-1571011200-1571097599@colegiovillacarmen.com
SUMMARY:Presentaciones “Día del Encuentro entre culturas”
DESCRIPTION:
URL:https://colegiovillacarmen.com/event/presentaciones-dia-del-encuentro-entre-culturas/
LOCATION:Colegio Villa Carmen\, Calle 9 6\, Santo Domingo Este\, Santo Domingo\, Distrito Nacional\, República Dominicana
END:VEVENT
BEGIN:VEVENT
DTSTART;VALUE=DATE:20191011
DTEND;VALUE=DATE:20191012
DTSTAMP:20260423T133123
CREATED:20191018T144425Z
LAST-MODIFIED:20191018T144425Z
UID:632-1570752000-1570838399@colegiovillacarmen.com
SUMMARY:Día Internacional de la niña
DESCRIPTION:El día internacional de la niña se designó el 11 de diciembre de 2011\, por la Asamblea General de las Naciones Unidas en la Resolución 66/170 para que a partir de 2012\, el 11 de octubre se conmemore para fomentar el reconocimiento de los derechos de las niñas y se dé a conocer los problemas que enfrentan en todo el mundo\, principalmente en países no desarrollados. Wikipedia
URL:https://colegiovillacarmen.com/event/dia-internacional-de-la-nina/
LOCATION:Distrito Nacional
END:VEVENT
BEGIN:VEVENT
DTSTART;VALUE=DATE:20191009
DTEND;VALUE=DATE:20191010
DTSTAMP:20260423T133123
CREATED:20191018T144237Z
LAST-MODIFIED:20191018T144237Z
UID:630-1570579200-1570665599@colegiovillacarmen.com
SUMMARY:Día de los Abuelos del Colegio Villa Carmen
DESCRIPTION:
URL:https://colegiovillacarmen.com/event/dia-de-los-abuelos-del-colegio-villa-carmen/
LOCATION:Colegio Villa Carmen\, Calle 9 6\, Santo Domingo Este\, Santo Domingo\, Distrito Nacional\, República Dominicana
END:VEVENT
BEGIN:VEVENT
DTSTART;TZID=America/Santo_Domingo:20191008T080000
DTEND;TZID=America/Santo_Domingo:20191008T080000
DTSTAMP:20260423T133123
CREATED:20191018T144104Z
LAST-MODIFIED:20191018T144104Z
UID:628-1570521600-1570521600@colegiovillacarmen.com
SUMMARY:Entrega Certificados a estudiantes meritorios Agosto/Septiembre
DESCRIPTION:
URL:https://colegiovillacarmen.com/event/entrega-certificados-a-estudiantes-meritorios-agosto-septiembre/
LOCATION:Colegio Villa Carmen\, Calle 9 6\, Santo Domingo Este\, Santo Domingo\, Distrito Nacional\, República Dominicana
END:VEVENT
BEGIN:VEVENT
DTSTART;VALUE=DATE:20191005
DTEND;VALUE=DATE:20191006
DTSTAMP:20260423T133123
CREATED:20191018T143949Z
LAST-MODIFIED:20191018T143949Z
UID:626-1570233600-1570319999@colegiovillacarmen.com
SUMMARY:Día Mundial del Docente
DESCRIPTION:En 1994 la Unesco proclamó el 5 de octubre Día Mundial de los Docentes.​Día Mundial de los Docentes Celebrado anualmente el 5 de octubre desde 1994\, el Día Mundial de los Docentes conmemora el aniversario de la suscripción de la Recomendación de la OIT y la UNESCO relativa a la Situación del Personal Docente. Wikipedia
URL:https://colegiovillacarmen.com/event/dia-mundial-del-docente/
LOCATION:Distrito Nacional
END:VEVENT
BEGIN:VEVENT
DTSTART;VALUE=DATE:20190819
DTEND;VALUE=DATE:20190820
DTSTAMP:20260423T133123
CREATED:20190804T002140Z
LAST-MODIFIED:20190804T011448Z
UID:386-1566172800-1566259199@colegiovillacarmen.com
SUMMARY:Inicio del año escolar
DESCRIPTION:
URL:https://colegiovillacarmen.com/event/inicio-del-ano-escolar/
LOCATION:Colegio Villa Carmen\, Calle 9 6\, Santo Domingo Este\, Santo Domingo\, Distrito Nacional\, República Dominicana
END:VEVENT
END:VCALENDAR